BEGIN:VCALENDAR
VERSION:2.0
PRODID:-//The Land Trust of West Haven Connecticut - ECPv6.13.2.1//NONSGML v1.0//EN
CALSCALE:GREGORIAN
METHOD:PUBLISH
X-ORIGINAL-URL:https://landtrustwesthavenct.org
X-WR-CALDESC:Events for The Land Trust of West Haven Connecticut
REFRESH-INTERVAL;VALUE=DURATION:PT1H
X-Robots-Tag:noindex
X-PUBLISHED-TTL:PT1H
BEGIN:VTIMEZONE
TZID:America/New_York
BEGIN:DAYLIGHT
TZOFFSETFROM:-0500
TZOFFSETTO:-0400
TZNAME:EDT
DTSTART:20240310T070000
END:DAYLIGHT
BEGIN:STANDARD
TZOFFSETFROM:-0400
TZOFFSETTO:-0500
TZNAME:EST
DTSTART:20241103T060000
END:STANDARD
END:VTIMEZONE
BEGIN:VEVENT
DTSTART;TZID=America/New_York:20240712T163000
DTEND;TZID=America/New_York:20240712T183000
DTSTAMP:20260424T233708
CREATED:20240628T131735Z
LAST-MODIFIED:20240628T131735Z
UID:3212-1720801800-1720809000@landtrustwesthavenct.org
SUMMARY:Indigenous Perspectives on the History\, Features\, & Uses of West Haven's Coastal Waterways
DESCRIPTION:Reception with introductions to neighbors who are active tribal members\, authors\, environmental advocates\, & researchers. Discussion with Q&A to learn more about their work\, our community\, and each other. Free and Open to the Public! \nOrganized by ArtsWestCT and co-sponosred by Land Trust of West Haven and Menunkatuck Audubon Society.
URL:https://landtrustwesthavenct.org/event/indigenous-perspectives-on-the-history-features-uses-of-west-havens-coastal-waterways/
LOCATION:West Haven High School Lobby\, West Haven\, CT\, United States
END:VEVENT
END:VCALENDAR