BEGIN:VCALENDAR
VERSION:2.0
PRODID:-//The Land Trust of West Haven Connecticut - ECPv6.13.2.1//NONSGML v1.0//EN
CALSCALE:GREGORIAN
METHOD:PUBLISH
X-WR-CALNAME:The Land Trust of West Haven Connecticut
X-ORIGINAL-URL:https://landtrustwesthavenct.org
X-WR-CALDESC:Events for The Land Trust of West Haven Connecticut
REFRESH-INTERVAL;VALUE=DURATION:PT1H
X-Robots-Tag:noindex
X-PUBLISHED-TTL:PT1H
BEGIN:VTIMEZONE
TZID:America/New_York
BEGIN:DAYLIGHT
TZOFFSETFROM:-0500
TZOFFSETTO:-0400
TZNAME:EDT
DTSTART:20230312T070000
END:DAYLIGHT
BEGIN:STANDARD
TZOFFSETFROM:-0400
TZOFFSETTO:-0500
TZNAME:EST
DTSTART:20231105T060000
END:STANDARD
END:VTIMEZONE
BEGIN:VEVENT
DTSTART;TZID=America/New_York:20230603T193000
DTEND;TZID=America/New_York:20230603T213000
DTSTAMP:20260425T211609
CREATED:20230415T185342Z
LAST-MODIFIED:20230415T185350Z
UID:3104-1685820600-1685827800@landtrustwesthavenct.org
SUMMARY:Full Moon Walk
DESCRIPTION:Our Full Moon Walk out to the end of the spit at Sandy Point will take place on Saturday\, June 3 at 7:30 pm. We will meet at the Sandy Point Beach parking lot. A talk will be given on the endangered horseshoe crab.
URL:https://landtrustwesthavenct.org/event/full-moon-walk/
END:VEVENT
END:VCALENDAR