BEGIN:VCALENDAR
VERSION:2.0
PRODID:-//The Land Trust of West Haven Connecticut - ECPv6.13.2.1//NONSGML v1.0//EN
CALSCALE:GREGORIAN
METHOD:PUBLISH
X-WR-CALNAME:The Land Trust of West Haven Connecticut
X-ORIGINAL-URL:https://landtrustwesthavenct.org
X-WR-CALDESC:Events for The Land Trust of West Haven Connecticut
REFRESH-INTERVAL;VALUE=DURATION:PT1H
X-Robots-Tag:noindex
X-PUBLISHED-TTL:PT1H
BEGIN:VTIMEZONE
TZID:America/New_York
BEGIN:DAYLIGHT
TZOFFSETFROM:-0500
TZOFFSETTO:-0400
TZNAME:EDT
DTSTART:20250309T070000
END:DAYLIGHT
BEGIN:STANDARD
TZOFFSETFROM:-0400
TZOFFSETTO:-0500
TZNAME:EST
DTSTART:20251102T060000
END:STANDARD
BEGIN:DAYLIGHT
TZOFFSETFROM:-0500
TZOFFSETTO:-0400
TZNAME:EDT
DTSTART:20260308T070000
END:DAYLIGHT
BEGIN:STANDARD
TZOFFSETFROM:-0400
TZOFFSETTO:-0500
TZNAME:EST
DTSTART:20261101T060000
END:STANDARD
END:VTIMEZONE
BEGIN:VEVENT
DTSTART;TZID=America/New_York:20251016T183000
DTEND;TZID=America/New_York:20260315T130237
DTSTAMP:20260423T165653
CREATED:20251001T125742Z
LAST-MODIFIED:20260315T130237Z
UID:4389-1760639400-1773579757@landtrustwesthavenct.org
SUMMARY:Annual Meeting of the Land Trust of West Haven
DESCRIPTION:The Annual Meeting is an important opportunity for members to come together\, hear updates on the progress of our projects\, and help shape the future of the Land Trust. We will review accomplishments from the past year\, share plans for the year ahead\, and welcome input from members. \n\n\nWe are excited to have Juliana Barrett speak on “The Connecticut Coast – What makes our beaches unique?” at the start of our meeting. She is an ecologist and educator with the Connecticut Sea Grant College Program at UConn. Ms. Barrett’s presentation will explore the Connecticut coast\, focusing on its geology\, ecology\, plants\, and animals. Connecticut’s beaches are different from those directly along the Atlantic Ocean. How does this shape what we see\, and how are our shorelines changing over time? Copies of Connecticut’s Sandy Shores: An Introduction to the Geology\, Plants and Animals\, a 130-page field guide\, will be available for purchase. \n\n\nIn addition\, the Annual Meeting is when elections for the Board of Directors are held. Serving on the Board is a meaningful way to support land conservation and stewardship in West Haven. If you are interested in being considered for election\, please contact Marilyn Wilkes at 203-415-4712 by October 1. \n\n\nWe encourage all members to attend—your voice and participation make a difference. Following the business portion of the meeting\, there will be time for informal conversation and refreshments.
URL:https://landtrustwesthavenct.org/event/annual-meeting-of-the-land-trust-of-west-haven/
LOCATION:West Haven City Hall
END:VEVENT
END:VCALENDAR