BEGIN:VCALENDAR
VERSION:2.0
PRODID:-//The Land Trust of West Haven Connecticut - ECPv6.13.2.1//NONSGML v1.0//EN
CALSCALE:GREGORIAN
METHOD:PUBLISH
X-ORIGINAL-URL:https://landtrustwesthavenct.org
X-WR-CALDESC:Events for The Land Trust of West Haven Connecticut
REFRESH-INTERVAL;VALUE=DURATION:PT1H
X-Robots-Tag:noindex
X-PUBLISHED-TTL:PT1H
BEGIN:VTIMEZONE
TZID:America/New_York
BEGIN:DAYLIGHT
TZOFFSETFROM:-0500
TZOFFSETTO:-0400
TZNAME:EDT
DTSTART:20230312T070000
END:DAYLIGHT
BEGIN:STANDARD
TZOFFSETFROM:-0400
TZOFFSETTO:-0500
TZNAME:EST
DTSTART:20231105T060000
END:STANDARD
END:VTIMEZONE
BEGIN:VEVENT
DTSTART;TZID=America/New_York:20230909T100000
DTEND;TZID=America/New_York:20230909T140000
DTSTAMP:20260425T180701
CREATED:20230908T164600Z
LAST-MODIFIED:20230908T164709Z
UID:3129-1694253600-1694268000@landtrustwesthavenct.org
SUMMARY:Scavenger Hunt
DESCRIPTION:Take a walk along the boardwalk and learn about some notable people who called West Haven home. \nSaturday\, September 9\, 2023 \n10 am – 2 pm \n(Rain Date September 16] \nBradley Point Park \nThe first 100 participants to finish the Scavenger Hunt will receive a Land Trust Challenge Coin! \nThe event is FREE and ALL are welcome!
URL:https://landtrustwesthavenct.org/event/scavenger-hunt/
END:VEVENT
END:VCALENDAR