BEGIN:VCALENDAR
VERSION:2.0
PRODID:-//The Land Trust of West Haven Connecticut - ECPv6.13.2.1//NONSGML v1.0//EN
CALSCALE:GREGORIAN
METHOD:PUBLISH
X-ORIGINAL-URL:https://landtrustwesthavenct.org
X-WR-CALDESC:Events for The Land Trust of West Haven Connecticut
REFRESH-INTERVAL;VALUE=DURATION:PT1H
X-Robots-Tag:noindex
X-PUBLISHED-TTL:PT1H
BEGIN:VTIMEZONE
TZID:America/New_York
BEGIN:DAYLIGHT
TZOFFSETFROM:-0500
TZOFFSETTO:-0400
TZNAME:EDT
DTSTART:20230312T070000
END:DAYLIGHT
BEGIN:STANDARD
TZOFFSETFROM:-0400
TZOFFSETTO:-0500
TZNAME:EST
DTSTART:20231105T060000
END:STANDARD
END:VTIMEZONE
BEGIN:VEVENT
DTSTART;TZID=America/New_York:20230513T090000
DTEND;TZID=America/New_York:20230513T110000
DTSTAMP:20260426T001159
CREATED:20230415T185043Z
LAST-MODIFIED:20230415T185043Z
UID:3102-1683968400-1683975600@landtrustwesthavenct.org
SUMMARY:Annual Beach Clean-Up
DESCRIPTION:Our annual Beach Clean-up — in partnership with Yale’s Day of Service — will take place on Saturday\, May 13\, from 9-11am. Join us at the facilities building at Old Grove Park for gloves and bags at any point during the two hours and help tidy up our shoreline. All are welcome. Register online here.\n\n\n\n 
URL:https://landtrustwesthavenct.org/event/annual-beach-clean-up/
END:VEVENT
END:VCALENDAR